View In:
ArcGIS JavaScript
ArcGIS Online Map Viewer
ArcGIS Earth
Service Description: Glendale_Imagery/UAV_Stonehaven_09_22
Name: Glendale_Imagery/UAV_Stonehaven_09_22
Description:
Single Fused Map Cache: false
Extent:
XMin: 596679.1943222701
YMin: 915184.0670726732
XMax: 600049.9115254581
YMax: 918131.4919216121
Spatial Reference: 2868
(2868)
LatestVCSWkid(0)
Initial Extent:
XMin: 596679.1943222701
YMin: 915184.0670726732
XMax: 600049.9115254581
YMax: 918131.4919216121
Spatial Reference: 2868
(2868)
LatestVCSWkid(0)
Full Extent:
XMin: 596679.1943222701
YMin: 915184.0670726732
XMax: 600049.9115254581
YMax: 918131.4919216121
Spatial Reference: 2868
(2868)
LatestVCSWkid(0)
Pixel Size X: 0.06576880847569783
Pixel Size Y: 0.06587160238996148
Band Count: 3
Pixel Type: U8
RasterFunction Infos: {"rasterFunctionInfos": [{
"name": "None",
"description": "",
"help": ""
}]}
Mensuration Capabilities: Basic
Inspection Capabilities:
Has Histograms: true
Has Colormap: false
Has Multi Dimensions : false
Rendering Rule:
Min Scale: 0
Max Scale: 0
Copyright Text:
Service Data Type: esriImageServiceDataTypeRGB
Min Values: 1, 1, 1
Max Values: 254, 254, 254
Mean Values: 140.20481451828525, 133.47051782059378, 119.86689947621299
Standard Deviation Values: 51.00575658627625, 45.990263039900434, 45.16962752931793
Object ID Field:
Fields:
None
Default Mosaic Method: Center
Allowed Mosaic Methods:
SortField:
SortValue: null
Mosaic Operator: First
Default Compression Quality: 75
Default Resampling Method: Bilinear
Max Record Count: null
Max Image Height: 4100
Max Image Width: 15000
Max Download Image Count: null
Max Mosaic Image Count: null
Allow Raster Function: true
Allow Copy: true
Allow Analysis: true
Allow Compute TiePoints: false
Supports Statistics: false
Supports Advanced Queries: false
Use StandardizedQueries: true
Raster Type Infos:
Name: Raster Dataset
Description: Supports all ArcGIS Raster Datasets
Help:
Has Raster Attribute Table: false
Edit Fields Info: null
Ownership Based AccessControl For Rasters: null
Child Resources:
Info
Histograms
Statistics
Key Properties
Legend
Raster Function Infos
Supported Operations:
Export Image
Identify
Measure
Compute Histograms
Compute Statistics Histograms
Get Samples
Compute Class Statistics
Query Boundary
Compute Pixel Location
Compute Angles
Validate
Project