{
 "currentVersion": 11.4,
 "serviceDescription": "Glendale_Imagery/UAV_Stonehaven_09_22",
 "name": "Glendale_Imagery/UAV_Stonehaven_09_22",
 "description": "",
 "extent": {
  "xmin": 596679.1943222701,
  "ymin": 915184.0670726732,
  "xmax": 600049.9115254581,
  "ymax": 918131.4919216121,
  "spatialReference": {
   "wkid": 2868,
   "latestWkid": 2868
  }
 },
 "initialExtent": {
  "xmin": 596679.1943222701,
  "ymin": 915184.0670726732,
  "xmax": 600049.9115254581,
  "ymax": 918131.4919216121,
  "spatialReference": {
   "wkid": 2868,
   "latestWkid": 2868
  }
 },
 "fullExtent": {
  "xmin": 596679.1943222701,
  "ymin": 915184.0670726732,
  "xmax": 600049.9115254581,
  "ymax": 918131.4919216121,
  "spatialReference": {
   "wkid": 2868,
   "latestWkid": 2868
  }
 },
 "sortableFields": "",
 "bandCount": 3,
 "pixelType": "U8",
 "minValues": [
  1,
  1,
  1
 ],
 "maxValues": [
  254,
  254,
  254
 ],
 "meanValues": [
  140.20481451828525,
  133.47051782059378,
  119.86689947621299
 ],
 "stdvValues": [
  51.00575658627625,
  45.990263039900434,
  45.16962752931793
 ],
 "hasMultidimensions": false,
 "pixelSizeX": 0.06576880847569783,
 "pixelSizeY": 0.06587160238996148,
 "meanPixelSize": 0.02006199861592648,
 "datasetFormat": "SDR",
 "uncompressedSize": 6879677985,
 "blockWidth": 128,
 "blockHeight": 128,
 "compressionType": "LZ77",
 "bandNames": [
  "Band_1",
  "Band_2",
  "Band_3"
 ],
 "allowCopy": true,
 "allowAnalysis": true,
 "itemAccess": false,
 "inspectionCapabilities": "",
 "minPixelSize": 0,
 "maxPixelSize": 0,
 "copyrightText": "",
 "serviceDataType": "esriImageServiceDataTypeRGB",
 "serviceSourceType": "esriImageServiceSourceTypeDataset",
 "objectIdField": "",
 "fields": [],
 "capabilities": "Image,Metadata,Mensuration",
 "defaultMosaicMethod": "Center",
 "allowedMosaicMethods": "",
 "sortField": "",
 "sortValue": null,
 "sortAscending": true,
 "mosaicOperator": "First",
 "defaultCompressionQuality": 75,
 "defaultResamplingMethod": "Bilinear",
 "maxImageHeight": 4100,
 "maxImageWidth": 15000,
 "allowRasterFunction": true,
 "rasterFunctionInfos": [
  {
   "name": "None",
   "description": "",
   "help": ""
  }
 ],
 "rasterTypeInfos": [
  {
   "name": "Raster Dataset",
   "description": "Supports all ArcGIS Raster Datasets",
   "help": ""
  }
 ],
 "mensurationCapabilities": "Basic",
 "hasHistograms": true,
 "hasColormap": false,
 "hasRasterAttributeTable": false,
 "minScale": 0,
 "maxScale": 0,
 "exportTilesAllowed": false,
 "supportsStatistics": false,
 "supportsAdvancedQueries": false,
 "editFieldsInfo": null,
 "ownershipBasedAccessControlForRasters": null,
 "allowComputeTiePoints": false,
 "useStandardizedQueries": true,
 "advancedQueryCapabilities": {
  "useStandardizedQueries": true,
  "supportsStatistics": false,
  "supportsOrderBy": false,
  "supportsDistinct": false,
  "supportsPagination": false
 },
 "spatialReference": {
  "wkid": 2868,
  "latestWkid": 2868
 }
}
